BEGIN:VCALENDAR
VERSION:2.0
PRODID:-//Pee-Aye Creative Plugins Admin Demo - ECPv6.15.17.1//NONSGML v1.0//EN
CALSCALE:GREGORIAN
METHOD:PUBLISH
X-WR-CALNAME:Pee-Aye Creative Plugins Admin Demo
X-ORIGINAL-URL:https://pac-plugin-demos.instawp.xyz
X-WR-CALDESC:Events for Pee-Aye Creative Plugins Admin Demo
REFRESH-INTERVAL;VALUE=DURATION:PT1H
X-Robots-Tag:noindex
X-PUBLISHED-TTL:PT1H
BEGIN:VTIMEZONE
TZID:UTC
BEGIN:STANDARD
TZOFFSETFROM:+0000
TZOFFSETTO:+0000
TZNAME:UTC
DTSTART:20240101T000000
END:STANDARD
END:VTIMEZONE
BEGIN:VEVENT
DTSTART;TZID=UTC:20251020T000000
DTEND;TZID=UTC:20251020T000000
DTSTAMP:20260420T154450
CREATED:20200508T172324Z
LAST-MODIFIED:20250501T153609Z
UID:2104-1760918400-1760918400@pac-plugin-demos.instawp.xyz
SUMMARY:Wine Tasting Tour
DESCRIPTION:Experience the finest local wines and stunning fall scenery on the Autumn Wine Tasting Tour. This event takes you on a curated journey through Springfield’s top vineyards and wineries\, where you can sample a variety of wines\, learn from expert sommeliers\, and enjoy gourmet food pairings.
URL:https://pac-plugin-demos.instawp.xyz/event/wine-tasting-tour/
LOCATION:Green Valley Trails\, 101 Forest Trail\, Green Valley\, IL\, 62801\, United States
CATEGORIES:Food & Drink,Outdoor Events
ATTACH;FMTTYPE=image/jpeg:https://pac-plugin-demos.instawp.xyz/wp-content/uploads/2020/05/Depositphotos_138038456_l-2015-1.jpg
ORGANIZER;CN="Green Valley Outdoor Adventures":MAILTO:adventures@greenvalley.com
END:VEVENT
END:VCALENDAR