BEGIN:VCALENDAR
VERSION:2.0
PRODID:-//Pee-Aye Creative Plugins Admin Demo - ECPv6.15.17.1//NONSGML v1.0//EN
CALSCALE:GREGORIAN
METHOD:PUBLISH
X-WR-CALNAME:Pee-Aye Creative Plugins Admin Demo
X-ORIGINAL-URL:https://pac-plugin-demos.instawp.xyz
X-WR-CALDESC:Events for Pee-Aye Creative Plugins Admin Demo
REFRESH-INTERVAL;VALUE=DURATION:PT1H
X-Robots-Tag:noindex
X-PUBLISHED-TTL:PT1H
BEGIN:VTIMEZONE
TZID:UTC
BEGIN:STANDARD
TZOFFSETFROM:+0000
TZOFFSETTO:+0000
TZNAME:UTC
DTSTART:20240101T000000
END:STANDARD
END:VTIMEZONE
BEGIN:VEVENT
DTSTART;TZID=UTC:20250808T200000
DTEND;TZID=UTC:20250808T220000
DTSTAMP:20260419T211930
CREATED:20200903T081704Z
LAST-MODIFIED:20250125T154325Z
UID:2106-1754683200-1754690400@pac-plugin-demos.instawp.xyz
SUMMARY:Music Concert
DESCRIPTION:Experience an unforgettable night of live music at our open-air concert featuring talented local bands and solo artists. This family-friendly event offers a mix of genres\, from soulful ballads to high-energy rock\, all performed under the stars. Bring a blanket or a lawn chair\, and enjoy delicious food from nearby vendors while soaking in the vibrant atmosphere. It’s a perfect way to unwind and enjoy the rhythm of the community.
URL:https://pac-plugin-demos.instawp.xyz/event/music-concert/
LOCATION:Community Park Amphitheater\, 123 Park Lane\, Springfield\, IL\, 62704\, United States
CATEGORIES:Music,Outdoor Events
ATTACH;FMTTYPE=image/jpeg:https://pac-plugin-demos.instawp.xyz/wp-content/uploads/2020/09/Music-Concert-1.jpg
ORGANIZER;CN="Downtown Business Alliance":MAILTO:info@downtownalliance.com
END:VEVENT
END:VCALENDAR