BEGIN:VCALENDAR
VERSION:2.0
PRODID:-//Pee-Aye Creative Plugins Admin Demo - ECPv6.15.17.1//NONSGML v1.0//EN
CALSCALE:GREGORIAN
METHOD:PUBLISH
X-WR-CALNAME:Pee-Aye Creative Plugins Admin Demo
X-ORIGINAL-URL:https://pac-plugin-demos.instawp.xyz
X-WR-CALDESC:Events for Pee-Aye Creative Plugins Admin Demo
REFRESH-INTERVAL;VALUE=DURATION:PT1H
X-Robots-Tag:noindex
X-PUBLISHED-TTL:PT1H
BEGIN:VTIMEZONE
TZID:UTC
BEGIN:STANDARD
TZOFFSETFROM:+0000
TZOFFSETTO:+0000
TZNAME:UTC
DTSTART:20250101T000000
END:STANDARD
END:VTIMEZONE
BEGIN:VEVENT
DTSTART;VALUE=DATE:20260308
DTEND;VALUE=DATE:20260309
DTSTAMP:20260420T050417
CREATED:20200901T010130Z
LAST-MODIFIED:20251002T025250Z
UID:2119-1772928000-1773014399@pac-plugin-demos.instawp.xyz
SUMMARY:Business Meeting Lecture
DESCRIPTION:Enhance your professional skills with this engaging lecture on business strategies\, networking\, and leadership. Join industry experts and fellow professionals in a session designed to inspire and equip attendees with practical knowledge for career growth.
URL:https://pac-plugin-demos.instawp.xyz/event/business-meeting-lecture/
LOCATION:City Library Conference Room\, 456 Main Street\, Springfield\, IL\, 62701\, United States
CATEGORIES:Business,Lectures
ATTACH;FMTTYPE=image/jpeg:https://pac-plugin-demos.instawp.xyz/wp-content/uploads/2020/09/Business-Meeting-Lecture-1.jpg
ORGANIZER;CN="City Library Association":MAILTO:events@springfieldlibrary.org
END:VEVENT
END:VCALENDAR